Package: raerdata Version: 1.7.0 Command: /home/biocbuild/bbs-3.22-bioc/R/bin/R CMD INSTALL raerdata StartedAt: 2025-10-02 11:02:07 -0400 (Thu, 02 Oct 2025) EndedAt: 2025-10-02 11:02:43 -0400 (Thu, 02 Oct 2025) EllapsedTime: 37.0 seconds RetCode: 0 Status: OK