Package: raerdata Version: 1.7.0 Command: /home/biocbuild/bbs-3.22-bioc/R/bin/R CMD build --keep-empty-dirs --no-resave-data raerdata StartedAt: 2025-10-02 11:36:52 -0400 (Thu, 02 Oct 2025) EndedAt: 2025-10-02 11:38:21 -0400 (Thu, 02 Oct 2025) EllapsedTime: 89.1 seconds RetCode: 0 Status: OK PackageFile: raerdata_1.7.0.tar.gz PackageFileSize: 245.8 KiB