Package: pumadata Version: 2.45.0 Command: /home/biocbuild/bbs-3.22-bioc/R/bin/R CMD check --install=check:pumadata.install-out.txt --library=/home/biocbuild/bbs-3.22-bioc/R/site-library --timings pumadata_2.45.0.tar.gz StartedAt: 2025-10-21 12:53:56 -0400 (Tue, 21 Oct 2025) EndedAt: 2025-10-21 12:57:18 -0400 (Tue, 21 Oct 2025) EllapsedTime: 202.5 seconds RetCode: 0 Status: OK CheckDir: pumadata.Rcheck Warnings: 0