Package: prostateCancerTaylor Version: 1.38.0 Command: /home/biocbuild/bbs-3.22-bioc/R/bin/R CMD check --install=check:prostateCancerTaylor.install-out.txt --library=/home/biocbuild/bbs-3.22-bioc/R/site-library --timings prostateCancerTaylor_1.38.0.tar.gz StartedAt: 2025-11-25 12:51:46 -0500 (Tue, 25 Nov 2025) EndedAt: 2025-11-25 12:52:17 -0500 (Tue, 25 Nov 2025) EllapsedTime: 31.2 seconds RetCode: 0 Status: WARNINGS CheckDir: prostateCancerTaylor.Rcheck Warnings: 1