Package: prostateCancerGrasso Version: 1.38.0 Maintainer: Mark Dunning MaintainerEmail: mark.dunning at cruk.cam.ac.uk git_url: https://git.bioconductor.org/packages/prostateCancerGrasso git_branch: RELEASE_3_22 git_last_commit: 5aa41bd git_last_commit_date: 2025-10-29 09:58:01 -0400 (Wed, 29 Oct 2025)