Package: preciseTADhub Version: 1.17.0 Command: /home/biocbuild/bbs-3.22-bioc/R/bin/R CMD check --install=check:preciseTADhub.install-out.txt --library=/home/biocbuild/bbs-3.22-bioc/R/site-library --timings preciseTADhub_1.17.0.tar.gz StartedAt: 2025-10-07 12:51:03 -0400 (Tue, 07 Oct 2025) EndedAt: 2025-10-07 12:54:12 -0400 (Tue, 07 Oct 2025) EllapsedTime: 188.8 seconds RetCode: 0 Status: OK CheckDir: preciseTADhub.Rcheck Warnings: 0