Package: prebsdata Version: 1.46.0 Maintainer: Karolis Uziela MaintainerEmail: karolis.uziela at scilifelab.se git_url: https://git.bioconductor.org/packages/prebsdata git_branch: RELEASE_3_22 git_last_commit: cca999a git_last_commit_date: 2025-10-29 09:53:23 -0500 (Wed, 29 Oct 2025)