Package: pd.atdschip.tiling Version: 0.47.0 Command: /home/biocbuild/bbs-3.22-bioc/R/bin/R CMD INSTALL pd.atdschip.tiling StartedAt: 2025-09-30 11:01:25 -0400 (Tue, 30 Sep 2025) EndedAt: 2025-09-30 11:01:54 -0400 (Tue, 30 Sep 2025) EllapsedTime: 29.7 seconds RetCode: 0 Status: OK