Package: pd.atdschip.tiling Version: 0.48.0 Maintainer: Kristof De Beuf MaintainerEmail: kristof.debeuf at ugent.be git_url: https://git.bioconductor.org/packages/pd.atdschip.tiling git_branch: RELEASE_3_22 git_last_commit: 9cc1e35 git_last_commit_date: 2025-10-29 09:33:28 -0500 (Wed, 29 Oct 2025)