Package: orthosData Version: 1.8.0 Maintainer: Panagiotis Papasaikas MaintainerEmail: panagiotis.papasaikas at fmi.ch git_url: https://git.bioconductor.org/packages/orthosData git_branch: RELEASE_3_22 git_last_commit: 991a4e2 git_last_commit_date: 2025-10-29 10:05:44 -0500 (Wed, 29 Oct 2025)