Package: oct4 Version: 1.26.0 Command: /home/biocbuild/bbs-3.22-bioc/R/bin/R CMD check --install=check:oct4.install-out.txt --library=/home/biocbuild/bbs-3.22-bioc/R/site-library --timings oct4_1.26.0.tar.gz StartedAt: 2025-11-13 12:53:51 -0500 (Thu, 13 Nov 2025) EndedAt: 2025-11-13 12:54:30 -0500 (Thu, 13 Nov 2025) EllapsedTime: 39.1 seconds RetCode: 0 Status: OK CheckDir: oct4.Rcheck Warnings: 0