Package: nullrangesData Version: 1.15.0 Command: /home/biocbuild/bbs-3.22-bioc/R/bin/R CMD check --install=check:nullrangesData.install-out.txt --library=/home/biocbuild/bbs-3.22-bioc/R/site-library --timings nullrangesData_1.15.0.tar.gz StartedAt: 2025-10-09 12:51:22 -0400 (Thu, 09 Oct 2025) EndedAt: 2025-10-09 12:54:58 -0400 (Thu, 09 Oct 2025) EllapsedTime: 216.5 seconds RetCode: 0 Status: OK CheckDir: nullrangesData.Rcheck Warnings: 0