Package: nanotubes Version: 1.25.0 Command: /home/biocbuild/bbs-3.22-bioc/R/bin/R CMD build --keep-empty-dirs --no-resave-data nanotubes StartedAt: 2025-09-25 11:31:18 -0400 (Thu, 25 Sep 2025) EndedAt: 2025-09-25 11:31:40 -0400 (Thu, 25 Sep 2025) EllapsedTime: 22.0 seconds RetCode: 0 Status: OK PackageFile: nanotubes_1.25.0.tar.gz PackageFileSize: 117.6 MiB