Package: mvoutData Version: 1.45.0 Command: /home/biocbuild/bbs-3.22-bioc/R/bin/R CMD INSTALL mvoutData StartedAt: 2025-09-25 11:04:03 -0400 (Thu, 25 Sep 2025) EndedAt: 2025-09-25 11:04:33 -0400 (Thu, 25 Sep 2025) EllapsedTime: 30.7 seconds RetCode: 0 Status: OK