Package: muleaData Version: 1.6.0 Command: /home/biocbuild/bbs-3.22-bioc/R/bin/R CMD check --install=check:muleaData.install-out.txt --library=/home/biocbuild/bbs-3.22-bioc/R/site-library --timings muleaData_1.6.0.tar.gz StartedAt: 2025-11-04 12:39:22 -0500 (Tue, 04 Nov 2025) EndedAt: 2025-11-04 12:39:51 -0500 (Tue, 04 Nov 2025) EllapsedTime: 28.3 seconds RetCode: 0 Status: WARNINGS CheckDir: muleaData.Rcheck Warnings: 3