Package: muSpaData Version: 1.2.0 Maintainer: Peiying Cai MaintainerEmail: peiying.cai at uzh.ch git_url: https://git.bioconductor.org/packages/muSpaData git_branch: RELEASE_3_22 git_last_commit: a86afc5 git_last_commit_date: 2025-10-29 10:06:55 -0500 (Wed, 29 Oct 2025)