Package: msqc1 Version: 1.37.0 Command: /home/biocbuild/bbs-3.22-bioc/R/bin/R CMD INSTALL msqc1 StartedAt: 2025-10-02 10:55:55 -0400 (Thu, 02 Oct 2025) EndedAt: 2025-10-02 10:56:00 -0400 (Thu, 02 Oct 2025) EllapsedTime: 5.0 seconds RetCode: 0 Status: OK