Package: mosaicsExample Version: 1.47.0 Command: /home/biocbuild/bbs-3.22-bioc/R/bin/R CMD check --install=check:mosaicsExample.install-out.txt --library=/home/biocbuild/bbs-3.22-bioc/R/site-library --timings mosaicsExample_1.47.0.tar.gz StartedAt: 2025-10-09 12:46:08 -0400 (Thu, 09 Oct 2025) EndedAt: 2025-10-09 12:46:26 -0400 (Thu, 09 Oct 2025) EllapsedTime: 17.5 seconds RetCode: 0 Status: WARNINGS CheckDir: mosaicsExample.Rcheck Warnings: 1