Package: minionSummaryData Version: 1.40.0 Maintainer: Mike Smith MaintainerEmail: grimbough at gmail.com git_url: https://git.bioconductor.org/packages/minionSummaryData git_branch: RELEASE_3_22 git_last_commit: d4fc529 git_last_commit_date: 2025-10-29 09:56:44 -0400 (Wed, 29 Oct 2025)