Package: microbiomeDataSets Version: 1.17.0 Command: /home/biocbuild/bbs-3.22-bioc/R/bin/R CMD check --install=check:microbiomeDataSets.install-out.txt --library=/home/biocbuild/bbs-3.22-bioc/R/site-library --timings microbiomeDataSets_1.17.0.tar.gz StartedAt: 2025-10-28 12:40:07 -0400 (Tue, 28 Oct 2025) EndedAt: 2025-10-28 12:45:43 -0400 (Tue, 28 Oct 2025) EllapsedTime: 336.3 seconds RetCode: 0 Status: OK CheckDir: microbiomeDataSets.Rcheck Warnings: 0