Package: microRNAome Version: 1.32.0 Maintainer: Matthew N. McCall MaintainerEmail: mccallm at gmail.com git_url: https://git.bioconductor.org/packages/microRNAome git_branch: RELEASE_3_22 git_last_commit: b62652f git_last_commit_date: 2025-10-29 09:59:22 -0500 (Wed, 29 Oct 2025)