Package: methylclockData Version: 1.18.0 Command: /home/biocbuild/bbs-3.22-bioc/R/bin/R CMD check --install=check:methylclockData.install-out.txt --library=/home/biocbuild/bbs-3.22-bioc/R/site-library --timings methylclockData_1.18.0.tar.gz StartedAt: 2025-11-20 12:50:38 -0500 (Thu, 20 Nov 2025) EndedAt: 2025-11-20 12:56:05 -0500 (Thu, 20 Nov 2025) EllapsedTime: 327.6 seconds RetCode: 0 Status: OK CheckDir: methylclockData.Rcheck Warnings: 0