Package: metaMSdata Version: 1.45.0 Command: /home/biocbuild/bbs-3.22-bioc/R/bin/R CMD build --keep-empty-dirs --no-resave-data metaMSdata StartedAt: 2025-10-02 11:29:08 -0400 (Thu, 02 Oct 2025) EndedAt: 2025-10-02 11:34:13 -0400 (Thu, 02 Oct 2025) EllapsedTime: 305.8 seconds RetCode: 0 Status: OK PackageFile: metaMSdata_1.45.0.tar.gz PackageFileSize: 121.9 MiB