Package: marinerData Version: 1.9.0 Command: /home/biocbuild/bbs-3.22-bioc/R/bin/R CMD INSTALL marinerData StartedAt: 2025-10-02 10:56:54 -0400 (Thu, 02 Oct 2025) EndedAt: 2025-10-02 10:57:08 -0400 (Thu, 02 Oct 2025) EllapsedTime: 13.7 seconds RetCode: 0 Status: OK