Package: mammaPrintData Version: 1.45.0 Command: /home/biocbuild/bbs-3.22-bioc/R/bin/R CMD INSTALL mammaPrintData StartedAt: 2025-10-21 10:55:39 -0400 (Tue, 21 Oct 2025) EndedAt: 2025-10-21 10:55:43 -0400 (Tue, 21 Oct 2025) EllapsedTime: 3.4 seconds RetCode: 0 Status: OK