Package: lungExpression Version: 0.47.0 Command: /home/biocbuild/bbs-3.22-bioc/R/bin/R CMD check --install=check:lungExpression.install-out.txt --library=/home/biocbuild/bbs-3.22-bioc/R/site-library --timings lungExpression_0.47.0.tar.gz StartedAt: 2025-10-23 12:37:59 -0400 (Thu, 23 Oct 2025) EndedAt: 2025-10-23 12:38:19 -0400 (Thu, 23 Oct 2025) EllapsedTime: 20.6 seconds RetCode: 0 Status: OK CheckDir: lungExpression.Rcheck Warnings: 0