Package: leeBamViews Version: 1.46.0 Maintainer: VJ Carey MaintainerEmail: stvjc at channing.harvard.edu git_url: https://git.bioconductor.org/packages/leeBamViews git_branch: RELEASE_3_22 git_last_commit: edd3062 git_last_commit_date: 2025-10-29 09:31:51 -0400 (Wed, 29 Oct 2025)