Package: humanStemCell Version: 0.49.0 Command: /home/biocbuild/bbs-3.22-bioc/R/bin/R CMD build --keep-empty-dirs --no-resave-data humanStemCell StartedAt: 2025-10-02 11:24:39 -0400 (Thu, 02 Oct 2025) EndedAt: 2025-10-02 11:25:43 -0400 (Thu, 02 Oct 2025) EllapsedTime: 64.4 seconds RetCode: 0 Status: OK PackageFile: humanStemCell_0.49.0.tar.gz PackageFileSize: 30.64 MiB