Package: humanHippocampus2024 Version: 1.1.0 Command: /home/biocbuild/bbs-3.22-bioc/R/bin/R CMD INSTALL humanHippocampus2024 StartedAt: 2025-09-25 11:00:13 -0400 (Thu, 25 Sep 2025) EndedAt: 2025-09-25 11:00:34 -0400 (Thu, 25 Sep 2025) EllapsedTime: 21.7 seconds RetCode: 0 Status: OK