Package: hgu133plus2barcodevecs Version: 1.47.0 Command: /home/biocbuild/bbs-3.22-bioc/R/bin/R CMD INSTALL hgu133plus2barcodevecs StartedAt: 2025-10-16 10:55:35 -0400 (Thu, 16 Oct 2025) EndedAt: 2025-10-16 10:55:35 -0400 (Thu, 16 Oct 2025) EllapsedTime: 0.9 seconds RetCode: 0 Status: OK