Package: hapmapsnp6 Version: 1.52.0 Command: /home/biocbuild/bbs-3.22-bioc/R/bin/R CMD check --install=check:hapmapsnp6.install-out.txt --library=/home/biocbuild/bbs-3.22-bioc/R/site-library --timings hapmapsnp6_1.52.0.tar.gz StartedAt: 2025-11-06 12:25:25 -0500 (Thu, 06 Nov 2025) EndedAt: 2025-11-06 12:27:41 -0500 (Thu, 06 Nov 2025) EllapsedTime: 135.9 seconds RetCode: 0 Status: OK CheckDir: hapmapsnp6.Rcheck Warnings: 0