Package: h5vcData Version: 2.30.0 Maintainer: Paul Theodor Pyl MaintainerEmail: pyl at embl.de git_url: https://git.bioconductor.org/packages/h5vcData git_branch: RELEASE_3_22 git_last_commit: 1ba3cbe git_last_commit_date: 2025-10-29 09:54:22 -0500 (Wed, 29 Oct 2025)