Package: golubEsets Version: 1.51.0 Command: /home/biocbuild/bbs-3.22-bioc/R/bin/R CMD INSTALL golubEsets StartedAt: 2025-10-16 10:56:04 -0400 (Thu, 16 Oct 2025) EndedAt: 2025-10-16 10:56:07 -0400 (Thu, 16 Oct 2025) EllapsedTime: 3.3 seconds RetCode: 0 Status: OK