Package: geneLenDataBase Version: 1.45.0 Command: /home/biocbuild/bbs-3.22-bioc/R/bin/R CMD check --install=check:geneLenDataBase.install-out.txt --library=/home/biocbuild/bbs-3.22-bioc/R/site-library --timings geneLenDataBase_1.45.0.tar.gz StartedAt: 2025-10-21 12:27:16 -0400 (Tue, 21 Oct 2025) EndedAt: 2025-10-21 12:36:21 -0400 (Tue, 21 Oct 2025) EllapsedTime: 545.7 seconds RetCode: 0 Status: OK CheckDir: geneLenDataBase.Rcheck Warnings: 0