Package: gDRtestData Version: 1.8.0 Command: /home/biocbuild/bbs-3.22-bioc/R/bin/R CMD check --install=check:gDRtestData.install-out.txt --library=/home/biocbuild/bbs-3.22-bioc/R/site-library --timings gDRtestData_1.8.0.tar.gz StartedAt: 2025-11-20 12:35:13 -0500 (Thu, 20 Nov 2025) EndedAt: 2025-11-20 12:36:01 -0500 (Thu, 20 Nov 2025) EllapsedTime: 48.0 seconds RetCode: 0 Status: OK CheckDir: gDRtestData.Rcheck Warnings: 0