Package: gDNAinRNAseqData Version: 1.10.0 Command: /home/biocbuild/bbs-3.22-bioc/R/bin/R CMD check --install=check:gDNAinRNAseqData.install-out.txt --library=/home/biocbuild/bbs-3.22-bioc/R/site-library --timings gDNAinRNAseqData_1.10.0.tar.gz StartedAt: 2025-11-13 12:27:47 -0500 (Thu, 13 Nov 2025) EndedAt: 2025-11-13 12:31:39 -0500 (Thu, 13 Nov 2025) EllapsedTime: 232.2 seconds RetCode: 0 Status: OK CheckDir: gDNAinRNAseqData.Rcheck Warnings: 0