Package: furrowSeg Version: 1.38.0 Maintainer: Joseph Barry MaintainerEmail: joseph.barry at embl.de git_url: https://git.bioconductor.org/packages/furrowSeg git_branch: RELEASE_3_22 git_last_commit: 6683afc git_last_commit_date: 2025-10-29 09:57:18 -0500 (Wed, 29 Oct 2025)