Package: fourDNData Version: 1.10.0 Maintainer: Jacques Serizay MaintainerEmail: jacquesserizay at gmail.com git_url: https://git.bioconductor.org/packages/fourDNData git_branch: RELEASE_3_22 git_last_commit: 77a5348 git_last_commit_date: 2025-10-29 10:05:25 -0400 (Wed, 29 Oct 2025)