Package: flowWorkspaceData Version: 3.21.0 Command: /home/biocbuild/bbs-3.22-bioc/R/bin/R CMD check --install=check:flowWorkspaceData.install-out.txt --library=/home/biocbuild/bbs-3.22-bioc/R/site-library --timings flowWorkspaceData_3.21.0.tar.gz StartedAt: 2025-10-02 12:23:28 -0400 (Thu, 02 Oct 2025) EndedAt: 2025-10-02 12:23:45 -0400 (Thu, 02 Oct 2025) EllapsedTime: 16.3 seconds RetCode: 0 Status: OK CheckDir: flowWorkspaceData.Rcheck Warnings: 0