Package: flowPloidyData Version: 1.36.0 Maintainer: Tyler Smith MaintainerEmail: tyler at plantarum.ca git_url: https://git.bioconductor.org/packages/flowPloidyData git_branch: RELEASE_3_22 git_last_commit: 241b58a git_last_commit_date: 2025-10-29 09:59:05 -0500 (Wed, 29 Oct 2025)