Package: fission Version: 1.29.0 Command: /home/biocbuild/bbs-3.22-bioc/R/bin/R CMD INSTALL fission StartedAt: 2025-09-30 10:59:45 -0400 (Tue, 30 Sep 2025) EndedAt: 2025-09-30 11:00:02 -0400 (Tue, 30 Sep 2025) EllapsedTime: 17.0 seconds RetCode: 0 Status: OK