Package: fabiaData Version: 1.48.0 Maintainer: Sepp Hochreiter MaintainerEmail: hochreit at bioinf.jku.at git_url: https://git.bioconductor.org/packages/fabiaData git_branch: RELEASE_3_22 git_last_commit: d241882 git_last_commit_date: 2025-10-29 09:33:33 -0500 (Wed, 29 Oct 2025)