Package: faahKO Version: 1.49.1 Command: /home/biocbuild/bbs-3.22-bioc/R/bin/R CMD INSTALL faahKO StartedAt: 2025-10-09 11:04:26 -0400 (Thu, 09 Oct 2025) EndedAt: 2025-10-09 11:05:27 -0400 (Thu, 09 Oct 2025) EllapsedTime: 61.1 seconds RetCode: 0 Status: OK