Package: etec16s Version: 1.37.0 Command: /home/biocbuild/bbs-3.22-bioc/R/bin/R CMD INSTALL etec16s StartedAt: 2025-10-16 10:56:27 -0400 (Thu, 16 Oct 2025) EndedAt: 2025-10-16 10:56:32 -0400 (Thu, 16 Oct 2025) EllapsedTime: 4.6 seconds RetCode: 0 Status: OK