Package: epimutacionsData Version: 1.13.0 Command: /home/biocbuild/bbs-3.22-bioc/R/bin/R CMD build --keep-empty-dirs --no-resave-data epimutacionsData StartedAt: 2025-09-30 11:16:11 -0400 (Tue, 30 Sep 2025) EndedAt: 2025-09-30 11:16:55 -0400 (Tue, 30 Sep 2025) EllapsedTime: 44.5 seconds RetCode: 0 Status: OK PackageFile: epimutacionsData_1.13.0.tar.gz PackageFileSize: 57.04 MiB