Package: epimutacionsData Version: 1.14.0 Maintainer: Leire Abarrategui MaintainerEmail: abarrategui.leire at gmail.com git_url: https://git.bioconductor.org/packages/epimutacionsData git_branch: RELEASE_3_22 git_last_commit: 6ab0608 git_last_commit_date: 2025-10-29 10:04:52 -0500 (Wed, 29 Oct 2025)