Package: emtdata Version: 1.17.0 Command: /home/biocbuild/bbs-3.22-bioc/R/bin/R CMD INSTALL emtdata StartedAt: 2025-10-02 10:59:47 -0400 (Thu, 02 Oct 2025) EndedAt: 2025-10-02 10:59:57 -0400 (Thu, 02 Oct 2025) EllapsedTime: 9.5 seconds RetCode: 0 Status: OK