Package: ecoliLeucine Version: 1.49.0 Command: /home/biocbuild/bbs-3.22-bioc/R/bin/R CMD INSTALL ecoliLeucine StartedAt: 2025-09-30 10:57:35 -0400 (Tue, 30 Sep 2025) EndedAt: 2025-09-30 10:57:44 -0400 (Tue, 30 Sep 2025) EllapsedTime: 9.1 seconds RetCode: 0 Status: OK