Package: dyebiasexamples Version: 1.49.0 Command: /home/biocbuild/bbs-3.22-bioc/R/bin/R CMD INSTALL dyebiasexamples StartedAt: 2025-09-25 11:01:01 -0400 (Thu, 25 Sep 2025) EndedAt: 2025-09-25 11:01:24 -0400 (Thu, 25 Sep 2025) EllapsedTime: 23.1 seconds RetCode: 0 Status: OK