Package: dressCheck Version: 0.47.0 Command: /home/biocbuild/bbs-3.22-bioc/R/bin/R CMD INSTALL dressCheck StartedAt: 2025-10-09 10:56:13 -0400 (Thu, 09 Oct 2025) EndedAt: 2025-10-09 10:56:21 -0400 (Thu, 09 Oct 2025) EllapsedTime: 8.7 seconds RetCode: 0 Status: OK